BEGIN:VCALENDAR
VERSION:2.0
PRODID:-//wp-events-plugin.com//7.2.3.1//EN
TZID:Europe/Paris
X-WR-TIMEZONE:Europe/Paris
BEGIN:VEVENT
UID:428@nogent-le-phaye.com
DTSTART;TZID=Europe/Paris:20260321T193000
DTEND;TZID=Europe/Paris:20260321T233000
DTSTAMP:20260304T200305Z
URL:https://www.nogent-le-phaye.com/evenements/%f0%9f%8d%bd%ef%b8%8fgrande
 -soiree-couscous-du-fc-nogent-le-phaye/
SUMMARY:🍽️Grande Soirée Couscous du FC Nogent‑le‑Phaye !
DESCRIPTION:Le FC Nogent‑le‑Phaye vous donne rendez‑vous le samedi 21
  mars à 19h30\, à la salle culturelle L’Entracte\, pour une soirée pl
 acée sous le signe de la fête et de la gourmandise !\n\n\nAu menu : un c
 ouscous généreux\, un apéritif\, une soirée dansante\, une tombola et 
 une ambiance conviviale comme on les aime.\nC’est l’occasion parfaite 
 de passer un super moment entre amis\, en famille ou entre supporters\, to
 ut en soutenant le club !\n\nTarifs : 25 € adultes – 15 € (9 à 15 a
 ns) – Gratuit -9 ans\n📞 Réservation avant le 15 mars : 06 34 64 19 6
 1 (paiement à la réservation)\n🍺 Buvette sur place\n\n👉 Une soiré
 e chaleureuse\, festive et gourmande : à ne pas manquer !\n\n
ATTACH;FMTTYPE=image/jpeg:https://www.nogent-le-phaye.com/wp-content/uploa
 ds/2026/03/Soiree-Foot-2026.jpg
CATEGORIES:À la une
END:VEVENT
BEGIN:VTIMEZONE
TZID:Europe/Paris
X-LIC-LOCATION:Europe/Paris
BEGIN:STANDARD
DTSTART:20251026T020000
TZOFFSETFROM:+0200
TZOFFSETTO:+0100
TZNAME:CET
END:STANDARD
END:VTIMEZONE
END:VCALENDAR