BEGIN:VCALENDAR
VERSION:2.0
PRODID:-//wp-events-plugin.com//7.2.3.1//EN
TZID:Europe/Paris
X-WR-TIMEZONE:Europe/Paris
BEGIN:VEVENT
UID:410@nogent-le-phaye.com
DTSTART;TZID=Europe/Paris:20260124T140000
DTEND;TZID=Europe/Paris:20260124T180000
DTSTAMP:20260111T192726Z
URL:https://www.nogent-le-phaye.com/evenements/apres-midi-jeu-de-role-pour
 -ados-samedi-24-janvier-2026-a-dammarie/
SUMMARY:Après-midi Jeu de Rôle pour Ados – Samedi 24 janvier 2026 à Da
 mmarie
DESCRIPTION:Chartres Métropole et les PEP28 invitent les adolescents de 12
  à 17 ans à participer à un après-midi exceptionnel dédié au jeu de 
 rôle\, animé par l’association Oasis Imaginaire. Venez vivre une avent
 ure immersive et créative !\n\n\n📍 Lieu : Accueil de loisirs de Dammar
 ie – Rue de la Filerie (à côté des stades)\n📅 Date : Samedi 24 jan
 vier 2026\n🕒 Horaire : 14h à 18h\n💰 Tarif : de 3\,67 € à 10\,30 
 €\n🎯 Places limitées : 16 participants\n\nInscription obligatoire :\
 n\n 	Par mail : secretariat6@pep28.asso.fr\n 	Par téléphone : 06 16 52 6
 3 05\n 	Dossier d’inscription disponible sur www.lespep28.org\n\nNe manq
 uez pas cette occasion unique de découvrir le jeu de rôle et de partager
  un moment convivial entre passionnés et curieux !\n\n
ATTACH;FMTTYPE=image/jpeg:https://www.nogent-le-phaye.com/wp-content/uploa
 ds/2026/01/EspaceJeune-JeuRole.jpg
END:VEVENT
BEGIN:VTIMEZONE
TZID:Europe/Paris
X-LIC-LOCATION:Europe/Paris
BEGIN:STANDARD
DTSTART:20251026T020000
TZOFFSETFROM:+0200
TZOFFSETTO:+0100
TZNAME:CET
END:STANDARD
END:VTIMEZONE
END:VCALENDAR