BEGIN:VCALENDAR
VERSION:2.0
PRODID:-//wp-events-plugin.com//7.2.3.1//EN
TZID:Europe/Paris
X-WR-TIMEZONE:Europe/Paris
BEGIN:VEVENT
UID:436@nogent-le-phaye.com
DTSTART;TZID=Europe/Paris:20260531T070000
DTEND;TZID=Europe/Paris:20260531T170000
DTSTAMP:20260422T190159Z
URL:https://www.nogent-le-phaye.com/evenements/brocante-de-nogent-le-phaye
 -dimanche-31-mai-2026/
SUMMARY:Brocante de Nogent‑le‑Phaye – Dimanche 31 mai 2026
DESCRIPTION:Amateurs de bonnes affaires et chineurs passionnés\, rendez‑
 vous le dimanche 31 mai 2026 pour la grande brocante de Nogent‑le‑Phay
 e !\n\n\n📍 Plaine sportive – Rue Maurice Lesourd\n⏰ De 7h à 18h\n\
 nUne journée conviviale vous attend avec des exposants particuliers\, de 
 nombreux stands\, ainsi qu’une buvette et de la restauration sur place.\
 n\n\n&nbsp\;\n\n\n👉 Exposants :\nInscription obligatoire – 3 € le m
 ètre linéaire (2 m minimum)\nBulletin d’inscription à télécharger s
 ur le site de la mairie\n📅 Clôture des inscriptions le samedi 30 mai 
 à 12h\n\n📞 Infos &amp\; inscriptions :\n06 09 57 46 02 / 06 10 68 33 2
 0\n📧 brocantenogentlephaye@gmail.com\n\nCliquez sur ce lien : Bulletin 
 d'inscription\n\nVenez chiner\, vendre et partager un bon moment en famill
 e ou entre amis !\n\n\nInstallation des exposants dès 5h30 (accès rue Ma
 urice Lesourd - Parvis Mairie)
ATTACH;FMTTYPE=image/jpeg:https://www.nogent-le-phaye.com/wp-content/uploa
 ds/2026/04/2006_Brocante.jpg
LOCATION:Plaine Sportive\, Rue Maurice Lesourd\, Nogent-le-Phaye\, 28630\, 
 France
X-APPLE-STRUCTURED-LOCATION;VALUE=URI;X-ADDRESS=Rue Maurice Lesourd\, Nogen
 t-le-Phaye\, 28630\, France;X-APPLE-RADIUS=100;X-TITLE=Plaine Sportive:geo
 :0,0
END:VEVENT
BEGIN:VTIMEZONE
TZID:Europe/Paris
X-LIC-LOCATION:Europe/Paris
BEGIN:DAYLIGHT
DTSTART:20260329T030000
TZOFFSETFROM:+0100
TZOFFSETTO:+0200
TZNAME:CEST
END:DAYLIGHT
END:VTIMEZONE
END:VCALENDAR