BEGIN:VCALENDAR
VERSION:2.0
PRODID:-//wp-events-plugin.com//7.2.3.1//EN
TZID:Europe/Paris
X-WR-TIMEZONE:Europe/Paris
BEGIN:VEVENT
UID:228@nogent-le-phaye.com
DTSTART;TZID=Europe/Paris:20231202T083000
DTEND;TZID=Europe/Paris:20231202T123000
DTSTAMP:20231201T204334Z
URL:https://www.nogent-le-phaye.com/evenements/captain-tortue-et-h2o-a-les
 sentiel-samedi-2-decembre/
SUMMARY:Captain Tortue et H2O à l'Essentiel\, samedi 2 décembre
DESCRIPTION:Venez faire le plein d'idée cadeaux et découvrir les vêtemen
 ts de la marque "Captain Tortue" ainsi que toute la collection des produit
 s H2O at Home\nSamedi 2 décembre à l'Essentiel
ATTACH;FMTTYPE=image/jpeg:https://www.nogent-le-phaye.com/wp-content/uploa
 ds/2023/12/Actu_H2OCaptain1223.jpg
CATEGORIES:À la une
LOCATION:L'Essentiel\, 14\, rue du Tertre\, Nogent-le-Phaye\, 28630\, Franc
 e
X-APPLE-STRUCTURED-LOCATION;VALUE=URI;X-ADDRESS=14\, rue du Tertre\, Nogent
 -le-Phaye\, 28630\, France;X-APPLE-RADIUS=100;X-TITLE=L'Essentiel:geo:0,0
END:VEVENT
BEGIN:VTIMEZONE
TZID:Europe/Paris
X-LIC-LOCATION:Europe/Paris
BEGIN:STANDARD
DTSTART:20231029T020000
TZOFFSETFROM:+0200
TZOFFSETTO:+0100
TZNAME:CET
END:STANDARD
END:VTIMEZONE
END:VCALENDAR