BEGIN:VCALENDAR
VERSION:2.0
PRODID:-//wp-events-plugin.com//7.2.3.1//EN
TZID:Europe/Paris
X-WR-TIMEZONE:Europe/Paris
BEGIN:VEVENT
UID:220@nogent-le-phaye.com
DTSTART;TZID=Europe/Paris:20251111T110000
DTEND;TZID=Europe/Paris:20251111T120000
DTSTAMP:20251008T185738Z
URL:https://www.nogent-le-phaye.com/evenements/ceremonie-du-11-novembre/
SUMMARY:Cérémonie du 11 novembre 
DESCRIPTION:La Commémoration de la Victoire et de la Paix\, en hommage à 
 tous les morts pour la France\, aura lieu mardi 11 novembre  à 11h au mo
 nument aux morts.\n\nUn verre de l'amitié sera servi à la Mairie à l'is
 sue de la cérémonie.
ATTACH;FMTTYPE=image/jpeg:https://www.nogent-le-phaye.com/wp-content/uploa
 ds/2024/11/Actu_Ceremonie1111.jpg
CATEGORIES:À la une
END:VEVENT
BEGIN:VTIMEZONE
TZID:Europe/Paris
X-LIC-LOCATION:Europe/Paris
BEGIN:STANDARD
DTSTART:20251026T020000
TZOFFSETFROM:+0200
TZOFFSETTO:+0100
TZNAME:CET
END:STANDARD
END:VTIMEZONE
END:VCALENDAR