BEGIN:VCALENDAR
VERSION:2.0
PRODID:-//wp-events-plugin.com//7.2.3.1//EN
TZID:Europe/Paris
X-WR-TIMEZONE:Europe/Paris
BEGIN:VEVENT
UID:356@nogent-le-phaye.com
DTSTART;TZID=Europe/Paris:20250713T183000
DTEND;TZID=Europe/Paris:20250713T230000
DTSTAMP:20250617T203527Z
URL:https://www.nogent-le-phaye.com/evenements/concert-pique-nique-dimanch
 e-13-juillet/
SUMMARY:Concert Pique-nique\, dimanche 13 juillet
DESCRIPTION:🎶 Un été en musique à Nogent-le-Phaye : ne manquez pas l
 e Pique-nique Concert gratuit ! 🧺\n\nLe dimanche 13 juillet 2025\, à
  partir de 18h30\, la plaine sportive de Nogent-le-Phaye vibrera au ryt
 hme de la musique live à l’occasion du Pique-nique Concert organisé 
 par l’Ensemble des Musiques Actuelles (EMA).\n\n🌟 Un événement gra
 tuit et ouvert à tous ! Dans une ambiance détendue\, venez profiter d’
 un concert en plein air tout en partageant un moment convivial. Installez-
 vous confortablement sur l’herbe\, sortez vos paniers garnis et laissez-
 vous porter par la musique.\n\n🍴 Sur place :\n\n 	Buvette pour vous r
 afraîchir\n 	Food truck pour les gourmands\n 	Et bien sûr\, votre prop
 re pique-nique si vous préférez !\n\n🎤 Une scène vivante et festive
  Des artistes locaux et des musiciens passionnés animeront la soirée av
 ec des performances variées\, pour tous les goûts et toutes les généra
 tions.\n\n&nbsp\;
ATTACH;FMTTYPE=image/jpeg:https://www.nogent-le-phaye.com/wp-content/uploa
 ds/2025/01/13-juillet-2025-scaled.jpg
CATEGORIES:À la une
LOCATION:Plaine Sportive\, Rue Maurice Lesourd\, Nogent-le-Phaye\, 28630\, 
 France
X-APPLE-STRUCTURED-LOCATION;VALUE=URI;X-ADDRESS=Rue Maurice Lesourd\, Nogen
 t-le-Phaye\, 28630\, France;X-APPLE-RADIUS=100;X-TITLE=Plaine Sportive:geo
 :0,0
END:VEVENT
BEGIN:VTIMEZONE
TZID:Europe/Paris
X-LIC-LOCATION:Europe/Paris
BEGIN:DAYLIGHT
DTSTART:20250330T030000
TZOFFSETFROM:+0100
TZOFFSETTO:+0200
TZNAME:CEST
END:DAYLIGHT
END:VTIMEZONE
END:VCALENDAR