BEGIN:VCALENDAR
VERSION:2.0
PRODID:-//wp-events-plugin.com//7.2.3.1//EN
TZID:Europe/Paris
X-WR-TIMEZONE:Europe/Paris
BEGIN:VEVENT
UID:382@nogent-le-phaye.com
DTSTART;TZID=Europe/Paris:20250913T130000
DTEND;TZID=Europe/Paris:20250913T180000
DTSTAMP:20250831T140902Z
URL:https://www.nogent-le-phaye.com/evenements/concours-de-petanque-samedi
 -13-septembre/
SUMMARY:Concours de pétanque\, samedi 13 septembre
DESCRIPTION:L'AS La boule le phaye  organise le Samedi 13 septembre un co
 ncours de pétanque.\n\nInscription dès 13h\n\n10€ / doublette formée\
 n\nJet de but à 14h - Lot pour tout le monde\nRestauration (barbecue/frit
 es)  et buvette sur place\nVerre de l'amitié offert
ATTACH;FMTTYPE=image/jpeg:https://www.nogent-le-phaye.com/wp-content/uploa
 ds/2025/08/Actu_Petanque130905.jpg
LOCATION:Plaine Sportive\, Rue Maurice Lesourd\, Nogent-le-Phaye\, 28630\, 
 France
X-APPLE-STRUCTURED-LOCATION;VALUE=URI;X-ADDRESS=Rue Maurice Lesourd\, Nogen
 t-le-Phaye\, 28630\, France;X-APPLE-RADIUS=100;X-TITLE=Plaine Sportive:geo
 :0,0
END:VEVENT
BEGIN:VTIMEZONE
TZID:Europe/Paris
X-LIC-LOCATION:Europe/Paris
BEGIN:DAYLIGHT
DTSTART:20250330T030000
TZOFFSETFROM:+0100
TZOFFSETTO:+0200
TZNAME:CEST
END:DAYLIGHT
END:VTIMEZONE
END:VCALENDAR