BEGIN:VCALENDAR
VERSION:2.0
PRODID:-//wp-events-plugin.com//7.2.3.1//EN
TZID:Europe/Paris
X-WR-TIMEZONE:Europe/Paris
BEGIN:VEVENT
UID:334@nogent-le-phaye.com
DTSTART;TZID=Europe/Paris:20251018T090000
DTEND;TZID=Europe/Paris:20251018T113000
DTSTAMP:20250107T203605Z
URL:https://www.nogent-le-phaye.com/evenements/dechets-verts-14/
SUMMARY:Déchets verts\, samedi 18 octobre
DESCRIPTION:Les nogentais pourront venir déposer leurs déchets verts same
 di 18 octobre à la déchetterie municipale.\n\nRAPPEL : Seuls les dépô
 ts de végétaux\, branchages\, bois divers\, tontes\, sont autorisés.\nP
 our les autres matériaux\, il faut s'adresser aux déchetteries de Chartr
 es Métropole.\n\nCliquez ou rendez-vous dans la rubrique "Déchets" pour 
 voir toutes les autres dates.
ATTACH;FMTTYPE=image/jpeg:https://www.nogent-le-phaye.com/wp-content/uploa
 ds/2024/05/Actu_DechetsVerts.jpg
CATEGORIES:À la une
END:VEVENT
BEGIN:VTIMEZONE
TZID:Europe/Paris
X-LIC-LOCATION:Europe/Paris
BEGIN:DAYLIGHT
DTSTART:20250330T030000
TZOFFSETFROM:+0100
TZOFFSETTO:+0200
TZNAME:CEST
END:DAYLIGHT
END:VTIMEZONE
END:VCALENDAR