BEGIN:VCALENDAR
VERSION:2.0
PRODID:-//wp-events-plugin.com//7.2.3.1//EN
TZID:Europe/Paris
X-WR-TIMEZONE:Europe/Paris
BEGIN:VEVENT
UID:415@nogent-le-phaye.com
DTSTART;TZID=Europe/Paris:20260606T090000
DTEND;TZID=Europe/Paris:20260606T113000
DTSTAMP:20260119T200450Z
URL:https://www.nogent-le-phaye.com/evenements/dechets-verts-ouverture-sam
 edi-6-juin/
SUMMARY:Déchets verts : Ouverture samedi 6 juin
DESCRIPTION:Les nogentais pourront venir déposer leurs déchets verts same
 di 6 juin  à la déchetterie municipale.\n\nRAPPEL : Seuls les dépôts 
 de végétaux\, branchages\, bois divers\, tontes\, sont autorisés.\nPour
  les autres matériaux\, il faut s'adresser aux déchetteries de Chartres 
 Métropole.\n\nCliquez ou rendez-vous dans la rubrique "Déchets" pour voi
 r toutes les autres dates.
ATTACH;FMTTYPE=image/jpeg:https://www.nogent-le-phaye.com/wp-content/uploa
 ds/2021/02/Info-DechetsVerts.jpg
CATEGORIES:À la une
END:VEVENT
BEGIN:VTIMEZONE
TZID:Europe/Paris
X-LIC-LOCATION:Europe/Paris
BEGIN:DAYLIGHT
DTSTART:20260329T030000
TZOFFSETFROM:+0100
TZOFFSETTO:+0200
TZNAME:CEST
END:DAYLIGHT
END:VTIMEZONE
END:VCALENDAR