BEGIN:VCALENDAR
VERSION:2.0
PRODID:-//wp-events-plugin.com//7.2.3.1//EN
TZID:Europe/Paris
X-WR-TIMEZONE:Europe/Paris
BEGIN:VEVENT
UID:384@nogent-le-phaye.com
DTSTART;TZID=Europe/Paris:20251004T193000
DTEND;TZID=Europe/Paris:20251004T220000
DTSTAMP:20250907T200549Z
URL:https://www.nogent-le-phaye.com/evenements/lancement-de-la-saison-cult
 urelle-2025-2026-samedi-4-octobre/
SUMMARY:Lancement de la saison culturelle 2025-2026\, samedi 4 octobre
DESCRIPTION:La nouvelle saison culturelle s’ouvre avec une soirée except
 ionnelle placée sous le signe de la découverte\, de la célébration et 
 du rire !\n\n📅 Au programme :\n\n 	Présentation des spectacles de la
  saison 2025-2026 : une sélection riche et variée qui promet de belles 
 émotions.\n 	Inauguration du nom de la salle : un moment symbolique pour
  marquer l’identité culturelle du lieu.\n 	Et pour clôturer la soirée
  en beauté\, Julie de Sceaux présentera son spectacle "Angoisses\, ph
 obies et moult joyeusetés"\, une performance pleine d’humour et de fine
 sse qui explore nos petites et grandes névroses avec tendresse et dérisi
 on.\n\n🎟️ Entrée gratuite\, dans la limite des places disponibles.\
 n📌 Les réservation sont ouvertes =&gt\; réservez en ligne\n\nNe manq
 uez pas cette soirée festive qui donne le ton d’une saison haute en cou
 leurs !
ATTACH;FMTTYPE=image/jpeg:https://www.nogent-le-phaye.com/wp-content/uploa
 ds/2025/08/Actu_SaisonCulturelle2526.jpg
LOCATION:Salle l'Entracte\, 11 route d'Auneau\, Nogent-le-Phaye\, 28630\, F
 rance
X-APPLE-STRUCTURED-LOCATION;VALUE=URI;X-ADDRESS=11 route d'Auneau\, Nogent-
 le-Phaye\, 28630\, France;X-APPLE-RADIUS=100;X-TITLE=Salle l'Entracte:geo:
 0,0
END:VEVENT
BEGIN:VTIMEZONE
TZID:Europe/Paris
X-LIC-LOCATION:Europe/Paris
BEGIN:DAYLIGHT
DTSTART:20250330T030000
TZOFFSETFROM:+0100
TZOFFSETTO:+0200
TZNAME:CEST
END:DAYLIGHT
END:VTIMEZONE
END:VCALENDAR