BEGIN:VCALENDAR
VERSION:2.0
PRODID:-//wp-events-plugin.com//7.2.3.1//EN
TZID:Europe/Paris
X-WR-TIMEZONE:Europe/Paris
BEGIN:VEVENT
UID:435@nogent-le-phaye.com
DTSTART;TZID=Europe/Paris:20260510T090000
DTEND;TZID=Europe/Paris:20260510T130000
DTSTAMP:20260414T194548Z
URL:https://www.nogent-le-phaye.com/evenements/les-foulees-de-nogent-le-ph
 aye-dimanche-10-mai/
SUMMARY:Les foulées de Nogent-le-Phaye\, dimanche 10 mai
DESCRIPTION:L'ASSPEN organise le Dimanche 10 mai 2026 la nouvelle édition 
 des foulées de Nogent-le-Phaye :\nInscriptions sur Protiming : https://pr
 otiming.fr/Runnings/detail/7552\n\n\n\n\n\n\n\n\n\n\n&nbsp\;\n\n\n\nEnvie 
 d'un petit aperçu de l'événement :\n\nhttps://www.youtube.com/watch?v=9
 lFdO4MG9Zs\n\n&nbsp\;\n\n&nbsp\;
ATTACH;FMTTYPE=image/jpeg:https://www.nogent-le-phaye.com/wp-content/uploa
 ds/2026/04/2026_Foulees.jpg
LOCATION:Plaine Sportive\, Rue Maurice Lesourd\, Nogent-le-Phaye\, 28630\, 
 France
X-APPLE-STRUCTURED-LOCATION;VALUE=URI;X-ADDRESS=Rue Maurice Lesourd\, Nogen
 t-le-Phaye\, 28630\, France;X-APPLE-RADIUS=100;X-TITLE=Plaine Sportive:geo
 :0,0
END:VEVENT
BEGIN:VTIMEZONE
TZID:Europe/Paris
X-LIC-LOCATION:Europe/Paris
BEGIN:DAYLIGHT
DTSTART:20260329T030000
TZOFFSETFROM:+0100
TZOFFSETTO:+0200
TZNAME:CEST
END:DAYLIGHT
END:VTIMEZONE
END:VCALENDAR