BEGIN:VCALENDAR
VERSION:2.0
PRODID:-//wp-events-plugin.com//7.2.3.1//EN
TZID:Europe/Paris
X-WR-TIMEZONE:Europe/Paris
BEGIN:VEVENT
UID:391@nogent-le-phaye.com
DTSTART;TZID=Europe/Paris:20251116T130000
DTEND;TZID=Europe/Paris:20251116T180000
DTSTAMP:20251102T200844Z
URL:https://www.nogent-le-phaye.com/evenements/loto-dimanche-16-novembre/
SUMMARY:Loto\, dimanche 16 novembre
DESCRIPTION:Le comité des fêtes vous donne rendez-vous : Dimanche 16 nove
 mbre 2025 à la Salle l'Entracte de  Nogent-le-Phaye\n\n 	Ouverture des p
 ortes : 11h\n 	Début du jeu : 13h\n 	Tarifs :\n\n 	4 € le carton\n 	10 
 € les 3 cartons\n 	20 € les 7 cartons\n\n\n 	Parties réservées aux e
 nfants\n 	Pas de réservation\n\n🎯 Partie spéciale :\n\n 	Gains jusqu
 ’à 1000 € !\n 	5 € le carton / 10 € les 3\n\n📞 Infos : 06 09 5
 7 46 02\n📧 comitedesfetesnogentlephaye@gmail.com\n\nVenez nombreux pour
  partager un moment convivial et tenter votre chance !\nBuvette et restaur
 ation sur place\nPlus d'information : 06.09.57.46.02 / comitedesfetesnogen
 tlephaye@gmail.com\n\nPaiement accepté : Espèces\, chèques\, CB\n\n&nbs
 p\;
ATTACH;FMTTYPE=image/jpeg:https://www.nogent-le-phaye.com/wp-content/uploa
 ds/2025/08/loto16112025.jpg
LOCATION:Salle l'Entracte\, 11 route d'Auneau\, Nogent-le-Phaye\, 28630\, F
 rance
X-APPLE-STRUCTURED-LOCATION;VALUE=URI;X-ADDRESS=11 route d'Auneau\, Nogent-
 le-Phaye\, 28630\, France;X-APPLE-RADIUS=100;X-TITLE=Salle l'Entracte:geo:
 0,0
END:VEVENT
BEGIN:VTIMEZONE
TZID:Europe/Paris
X-LIC-LOCATION:Europe/Paris
BEGIN:STANDARD
DTSTART:20251026T020000
TZOFFSETFROM:+0200
TZOFFSETTO:+0100
TZNAME:CET
END:STANDARD
END:VTIMEZONE
END:VCALENDAR