BEGIN:VCALENDAR
VERSION:2.0
PRODID:-//wp-events-plugin.com//7.2.3.1//EN
TZID:Europe/Paris
X-WR-TIMEZONE:Europe/Paris
BEGIN:VEVENT
UID:387@nogent-le-phaye.com
DTSTART;TZID=Europe/Paris:20251019T133000
DTEND;TZID=Europe/Paris:20251019T170000
DTSTAMP:20250930T190618Z
URL:https://www.nogent-le-phaye.com/evenements/randonnee-pour-le-telethon-
 dimanche-19-octobre/
SUMMARY:Randonnée pour le Téléthon\, dimanche 19 octobre
DESCRIPTION:L’amicale de Nogent le Phaye et l’AS Rando Sours vous donne
  rendez-vous pour une randonnée au profit du Téléthon\nChaussez vos ba
 skets et dépassez vous\nL'intégralité de la recette sera reversée à l
 'AMF TELETHON\n\n
ATTACH;FMTTYPE=image/jpeg:https://www.nogent-le-phaye.com/wp-content/uploa
 ds/2025/08/Actu_RandoTelethon2025.jpg
END:VEVENT
BEGIN:VTIMEZONE
TZID:Europe/Paris
X-LIC-LOCATION:Europe/Paris
BEGIN:DAYLIGHT
DTSTART:20250330T030000
TZOFFSETFROM:+0100
TZOFFSETTO:+0200
TZNAME:CEST
END:DAYLIGHT
END:VTIMEZONE
END:VCALENDAR