BEGIN:VCALENDAR
VERSION:2.0
PRODID:-//wp-events-plugin.com//7.2.3.1//EN
TZID:Europe/Paris
X-WR-TIMEZONE:Europe/Paris
BEGIN:VEVENT
UID:399@nogent-le-phaye.com
DTSTART;TZID=Europe/Paris:20250918T140000
DTEND;TZID=Europe/Paris:20250918T180000
DTSTAMP:20250907T191235Z
URL:https://www.nogent-le-phaye.com/evenements/reprise-de-la-marche-jeudi-
 19-septembre/
SUMMARY:Reprise de la marche\, jeudi 18 septembre
DESCRIPTION:L’amicale de Nogent-le-Phaye vous donne rendez-vous  jeudi 1
 8 Septembre à 14h place Armand May pour la reprise de la Marche.\n\n
ATTACH;FMTTYPE=image/jpeg:https://www.nogent-le-phaye.com/wp-content/uploa
 ds/2025/09/Actu_Marche2025.jpg
CATEGORIES:À la une
END:VEVENT
BEGIN:VTIMEZONE
TZID:Europe/Paris
X-LIC-LOCATION:Europe/Paris
BEGIN:DAYLIGHT
DTSTART:20250330T030000
TZOFFSETFROM:+0100
TZOFFSETTO:+0200
TZNAME:CEST
END:DAYLIGHT
END:VTIMEZONE
END:VCALENDAR