BEGIN:VCALENDAR
VERSION:2.0
PRODID:-//wp-events-plugin.com//7.2.3.1//EN
TZID:Europe/Paris
X-WR-TIMEZONE:Europe/Paris
BEGIN:VEVENT
UID:398@nogent-le-phaye.com
DTSTART;TZID=Europe/Paris:20250908T190000
DTEND;TZID=Europe/Paris:20250908T200000
DTSTAMP:20250904T192335Z
URL:https://www.nogent-le-phaye.com/evenements/reprise-des-cours-de-gym-lu
 ndi-8-septembre/
SUMMARY:Reprise des Cours de Gym\, lundi 8 septembre
DESCRIPTION:Retrouvez l'amicale de Nogent-le-Phaye le lundi 8 Septembre à 
 19h\, à la salle culturelle\, pour la reprise des cours de Gym.\n\n
ATTACH;FMTTYPE=image/jpeg:https://www.nogent-le-phaye.com/wp-content/uploa
 ds/2025/09/Actu_Gym2025.jpg
CATEGORIES:À la une
END:VEVENT
BEGIN:VTIMEZONE
TZID:Europe/Paris
X-LIC-LOCATION:Europe/Paris
BEGIN:DAYLIGHT
DTSTART:20250330T030000
TZOFFSETFROM:+0100
TZOFFSETTO:+0200
TZNAME:CEST
END:DAYLIGHT
END:VTIMEZONE
END:VCALENDAR