BEGIN:VCALENDAR
VERSION:2.0
PRODID:-//wp-events-plugin.com//7.2.3.1//EN
TZID:Europe/Paris
X-WR-TIMEZONE:Europe/Paris
BEGIN:VEVENT
UID:310@nogent-le-phaye.com
DTSTART;TZID=Europe/Paris:20241130T200000
DTEND;TZID=Europe/Paris:20241130T235900
DTSTAMP:20241113T201720Z
URL:https://www.nogent-le-phaye.com/evenements/soiree-telethon-3/
SUMMARY:Soirée Années 60/70 Rock n'roll pour le Téléthon\, samedi 30 no
 vembre
DESCRIPTION:Venez revivre les années 60/70 lors d’une soirée Rock ‘n
 ’ Roll inoubliable ! 🎸✨\n\nRejoignez nous à la salle culturelle po
 ur une nuit de musique rétro\, avec une démonstration spectaculaire de p
 ole danse.\n\nTous les bénéfices seront reversés au Téléthon.\n\nNe m
 anquez pas cette occasion de vous amuser tout en soutenant une bonne cause
  ! 📅🎉\n\n
ATTACH;FMTTYPE=image/jpeg:https://www.nogent-le-phaye.com/wp-content/uploa
 ds/2024/11/Actu_SoireeTelethon2024.jpg
CATEGORIES:À la une
LOCATION:Salle l'Entracte\, 11 route d'Auneau\, Nogent-le-Phaye\, 28630\, F
 rance
X-APPLE-STRUCTURED-LOCATION;VALUE=URI;X-ADDRESS=11 route d'Auneau\, Nogent-
 le-Phaye\, 28630\, France;X-APPLE-RADIUS=100;X-TITLE=Salle l'Entracte:geo:
 0,0
END:VEVENT
BEGIN:VTIMEZONE
TZID:Europe/Paris
X-LIC-LOCATION:Europe/Paris
BEGIN:STANDARD
DTSTART:20241027T020000
TZOFFSETFROM:+0200
TZOFFSETTO:+0100
TZNAME:CET
END:STANDARD
END:VTIMEZONE
END:VCALENDAR