BEGIN:VCALENDAR
VERSION:2.0
PRODID:-//wp-events-plugin.com//7.2.3.1//EN
TZID:Europe/Paris
X-WR-TIMEZONE:Europe/Paris
BEGIN:VEVENT
UID:389@nogent-le-phaye.com
DTSTART;TZID=Europe/Paris:20251115T193000
DTEND;TZID=Europe/Paris:20251115T223000
DTSTAMP:20251103T200017Z
URL:https://www.nogent-le-phaye.com/evenements/soiree-telethon-samedi-15-n
 ovembre/
SUMMARY:Soirée Téléthon\, samedi 15 novembre
DESCRIPTION:Facel Vega Hyperbol en concert pour la bonne cause\n\nLe 15 nov
 embre 2025 à 19h30\, la salle culturelle L’Entracte de Nogent-le-Phaye 
 accueillera un événement musical exceptionnel au profit du Téléthon. L
 e groupe Facel Vega Hyperbol montera sur scène pour offrir une soirée pl
 eine d’énergie et de solidarité.\n\nL’entrée est fixée à 5 €\, 
 et l’intégralité des recettes sera reversée au Téléthon\, soutenant
  ainsi la recherche et les actions en faveur des maladies rares.\n\nInfos 
 pratiques :\n📍 Salle culturelle L’Entracte\n📅 15 novembre 2025\n
 🕢 Début du concert à 19h30\n🎟️ Entrée : 5 € (au profit du Té
 léthon)
ATTACH;FMTTYPE=image/jpeg:https://www.nogent-le-phaye.com/wp-content/uploa
 ds/2025/08/SoireeTelethon.jpg
CATEGORIES:À la une
LOCATION:Salle l'Entracte\, 11 route d'Auneau\, Nogent-le-Phaye\, 28630\, F
 rance
X-APPLE-STRUCTURED-LOCATION;VALUE=URI;X-ADDRESS=11 route d'Auneau\, Nogent-
 le-Phaye\, 28630\, France;X-APPLE-RADIUS=100;X-TITLE=Salle l'Entracte:geo:
 0,0
END:VEVENT
BEGIN:VTIMEZONE
TZID:Europe/Paris
X-LIC-LOCATION:Europe/Paris
BEGIN:STANDARD
DTSTART:20251026T020000
TZOFFSETFROM:+0200
TZOFFSETTO:+0100
TZNAME:CET
END:STANDARD
END:VTIMEZONE
END:VCALENDAR