BEGIN:VCALENDAR
VERSION:2.0
PRODID:-//wp-events-plugin.com//7.2.3.1//EN
TZID:Europe/Paris
X-WR-TIMEZONE:Europe/Paris
BEGIN:VEVENT
UID:386@nogent-le-phaye.com
DTSTART;TZID=Europe/Paris:20251012T140000
DTEND;TZID=Europe/Paris:20251012T190000
DTSTAMP:20251006T190606Z
URL:https://www.nogent-le-phaye.com/evenements/the-dansant-dimanche-12-oct
 obre/
SUMMARY:Thé dansant\, dimanche 12 octobre
DESCRIPTION:Un thé dansant est organisé par le comité des fêtes de Noge
 nt-le-Phaye.\n\nRendez-vous à L'Entracte (salle culturelle de Nogent-le-P
 haye)\, le dimanche 12 octobre de 14h à 19h.\n\nInscription : comitedesfe
 stesnogentlephaye@gmail.com ou au 06.09.57.46.02
ATTACH;FMTTYPE=image/jpeg:https://www.nogent-le-phaye.com/wp-content/uploa
 ds/2023/02/AFFICHE-THE-DANSANT-SITE.jpg
LOCATION:Salle l'Entracte\, 11 route d'Auneau\, Nogent-le-Phaye\, 28630\, F
 rance
X-APPLE-STRUCTURED-LOCATION;VALUE=URI;X-ADDRESS=11 route d'Auneau\, Nogent-
 le-Phaye\, 28630\, France;X-APPLE-RADIUS=100;X-TITLE=Salle l'Entracte:geo:
 0,0
END:VEVENT
BEGIN:VTIMEZONE
TZID:Europe/Paris
X-LIC-LOCATION:Europe/Paris
BEGIN:DAYLIGHT
DTSTART:20250330T030000
TZOFFSETFROM:+0100
TZOFFSETTO:+0200
TZNAME:CEST
END:DAYLIGHT
END:VTIMEZONE
END:VCALENDAR